0.300000
0.000000
0.000000
-0.300000
511692.440089
3637446.123120
