0.300000
0.000000
0.000000
-0.300000
517539.140089
3637458.423120
