0.300000
0.000000
0.000000
-0.300000
604797.140089
3679632.123120
