0.300000
0.000000
0.000000
-0.300000
552803.540089
3602960.523120
