0.300000
0.000000
0.000000
-0.300000
546903.740089
3609856.323120
