0.300000
0.000000
0.000000
-0.300000
552766.940089
3609889.023120
