0.300000
0.000000
0.000000
-0.300000
523500.140089
3588974.823120
