0.300000
0.000000
0.000000
-0.300000
529375.340089
3588993.723120
