0.300000
0.000000
0.000000
-0.300000
470765.240089
3644402.523120
