0.300000
0.000000
0.000000
-0.300000
634195.340089
3659216.823120
