0.300000
0.000000
0.000000
-0.300000
628269.440089
3666064.923120
