0.300000
0.000000
0.000000
-0.300000
634100.240089
3666146.823120
