0.300000
0.000000
0.000000
-0.300000
558589.340089
3616853.823120
