0.300000
0.000000
0.000000
-0.300000
558548.540089
3623782.623120
