<VRTDataset rasterXSize="120040" rasterYSize="156040"> <SRS dataAxisToSRSAxisMapping="1,2">PROJCS["NAD83(2011) / UTM zone 18N",GEOGCS["NAD83(2011)",DATUM["NAD83_National_Spatial_Reference_System_2011",SPHEROID["GRS 1980",6378137,298.257222101,AUTHORITY["EPSG","7019"]],AUTHORITY["EPSG","1116"]],PRIMEM["Greenwich",0,AUTHORITY["EPSG","8901"]],UNIT["degree",0.0174532925199433,AUTHORITY["EPSG","9122"]],AUTHORITY["EPSG","6318"]],PROJECTION["Transverse_Mercator"],PARAMETER["latitude_of_origin",0],PARAMETER["central_meridian",-75],PARAMETER["scale_factor",0.9996],PARAMETER["false_easting",500000],PARAMETER["false_northing",0],UNIT["metre",1,AUTHORITY["EPSG","9001"]],AXIS["Easting",EAST],AXIS["Northing",NORTH],AUTHORITY["EPSG","6347"]]</SRS> <GeoTransform> 2.7899500000000000e+05, 2.5000000000000000e-01, 0.0000000000000000e+00, 4.1640050000000000e+06, 0.0000000000000000e+00, -2.5000000000000000e-01</GeoTransform> <VRTRasterBand dataType="Byte" band="1"> <ColorInterp>Red</ColorInterp> <SimpleSource> <SourceFilename relativeToVRT="1">./297000e4137000n.tif</SourceFilename> <SourceBand>1</SourceBand> <SourceProperties RasterXSize="12040" RasterYSize="12040" DataType="Byte" BlockXSize="512" BlockYSize="512" /> <SrcRect xOff="0" yOff="0" xSize="12040" ySize="12040" /> <DstRect xOff="72000" yOff="108000" xSize="12040" ySize="12040" /> </SimpleSource> <SimpleSource> <SourceFilename relativeToVRT="1">./300000e4131000n.tif</SourceFilename> <SourceBand>1</SourceBand> <SourceProperties RasterXSize="12040" RasterYSize="12040" DataType="Byte" BlockXSize="512" BlockYSize="512" /> <SrcRect xOff="0" yOff="0" xSize="12040" ySize="12040" /> <DstRect xOff="84000" yOff="132000" xSize="12040" ySize="12040" /> </SimpleSource> <SimpleSource> <SourceFilename relativeToVRT="1">./300000e4134000n.tif</SourceFilename> <SourceBand>1</SourceBand> <SourceProperties RasterXSize="12040" RasterYSize="12040" DataType="Byte" BlockXSize="512" BlockYSize="512" /> <SrcRect xOff="0" yOff="0" xSize="12040" ySize="12040" /> <DstRect xOff="84000" yOff="120000" xSize="12040" ySize="12040" /> </SimpleSource> <SimpleSource> <SourceFilename relativeToVRT="1">./300000e4137000n.tif</SourceFilename> <SourceBand>1</SourceBand> <SourceProperties RasterXSize="12040" RasterYSize="12040" DataType="Byte" BlockXSize="512" BlockYSize="512" /> <SrcRect xOff="0" yOff="0" xSize="12040" ySize="12040" /> <DstRect xOff="84000" yOff="108000" xSize="12040" ySize="12040" /> </SimpleSource> <SimpleSource> <SourceFilename relativeToVRT="1">./303000e4128000n.tif</SourceFilename> <SourceBand>1</SourceBand> <SourceProperties RasterXSize="12040" RasterYSize="12040" DataType="Byte" BlockXSize="512" BlockYSize="512" /> <SrcRect xOff="0" yOff="0" xSize="12040" ySize="12040" /> <DstRect xOff="96000" yOff="144000" xSize="12040" ySize="12040" /> </SimpleSource> <SimpleSource> <SourceFilename relativeToVRT="1">./303000e4131000n.tif</SourceFilename> <SourceBand>1</SourceBand> <SourceProperties RasterXSize="12040" RasterYSize="12040" DataType="Byte" BlockXSize="512" BlockYSize="512" /> <SrcRect xOff="0" yOff="0" xSize="12040" ySize="12040" /> <DstRect xOff="96000" yOff="132000" xSize="12040" ySize="12040" /> </SimpleSource> <SimpleSource> <SourceFilename relativeToVRT="1">./303000e4134000n.tif</SourceFilename> <SourceBand>1</SourceBand> <SourceProperties RasterXSize="12040" RasterYSize="12040" DataType="Byte" BlockXSize="512" BlockYSize="512" /> <SrcRect xOff="0" yOff="0" xSize="12040" ySize="12040" /> <DstRect xOff="96000" yOff="120000" xSize="12040" ySize="12040" /> </SimpleSource> <SimpleSource> <SourceFilename relativeToVRT="1">./303000e4137000n.tif</SourceFilename> <SourceBand>1</SourceBand> <SourceProperties RasterXSize="12040" RasterYSize="12040" DataType="Byte" BlockXSize="512" BlockYSize="512" /> <SrcRect xOff="0" yOff="0" xSize="12040" ySize="12040" /> <DstRect xOff="96000" yOff="108000" xSize="12040" ySize="12040" /> </SimpleSource> <SimpleSource> <SourceFilename relativeToVRT="1">./306000e4128000n.tif</SourceFilename> <SourceBand>1</SourceBand> <SourceProperties RasterXSize="12040" RasterYSize="12040" DataType="Byte" BlockXSize="512" BlockYSize="512" /> <SrcRect xOff="0" yOff="0" xSize="12040" ySize="12040" /> <DstRect xOff="108000" yOff="144000" xSize="12040" ySize="12040" /> </SimpleSource> <SimpleSource> <SourceFilename relativeToVRT="1">./306000e4131000n.tif</SourceFilename> <SourceBand>1</SourceBand> <SourceProperties RasterXSize="12040" RasterYSize="12040" DataType="Byte" BlockXSize="512" BlockYSize="512" /> <SrcRect xOff="0" yOff="0" xSize="12040" ySize="12040" /> <DstRect xOff="108000" yOff="132000" xSize="12040" ySize="12040" /> </SimpleSource> <SimpleSource> <SourceFilename relativeToVRT="1">./306000e4134000n.tif</SourceFilename> <SourceBand>1</SourceBand> <SourceProperties RasterXSize="12040" RasterYSize="12040" DataType="Byte" BlockXSize="512" BlockYSize="512" /> <SrcRect xOff="0" yOff="0" xSize="12040" ySize="12040" /> <DstRect xOff="108000" yOff="120000" xSize="12040" ySize="12040" /> </SimpleSource> <SimpleSource> <SourceFilename relativeToVRT="1">./279000e4161000n.tif</SourceFilename> <SourceBand>1</SourceBand> <SourceProperties RasterXSize="12040" RasterYSize="12040" DataType="Byte" BlockXSize="512" BlockYSize="512" /> <SrcRect xOff="0" yOff="0" xSize="12040" ySize="12040" /> <DstRect xOff="0" yOff="12000" xSize="12040" ySize="12040" /> </SimpleSource> <SimpleSource> <SourceFilename relativeToVRT="1">./282000e4140000n.tif</SourceFilename> <SourceBand>1</SourceBand> <SourceProperties RasterXSize="12040" RasterYSize="12040" DataType="Byte" BlockXSize="512" BlockYSize="512" /> <SrcRect xOff="0" yOff="0" xSize="12040" ySize="12040" /> <DstRect xOff="12000" yOff="96000" xSize="12040" ySize="12040" /> </SimpleSource> <SimpleSource> <SourceFilename relativeToVRT="1">./282000e4143000n.tif</SourceFilename> <SourceBand>1</SourceBand> <SourceProperties RasterXSize="12040" RasterYSize="12040" DataType="Byte" BlockXSize="512" BlockYSize="512" /> <SrcRect xOff="0" yOff="0" xSize="12040" ySize="12040" /> <DstRect xOff="12000" yOff="84000" xSize="12040" ySize="12040" /> </SimpleSource> <SimpleSource> <SourceFilename relativeToVRT="1">./282000e4146000n.tif</SourceFilename> <SourceBand>1</SourceBand> <SourceProperties RasterXSize="12040" RasterYSize="12040" DataType="Byte" BlockXSize="512" BlockYSize="512" /> <SrcRect xOff="0" yOff="0" xSize="12040" ySize="12040" /> <DstRect xOff="12000" yOff="72000" xSize="12040" ySize="12040" /> </SimpleSource> <SimpleSource> <SourceFilename relativeToVRT="1">./282000e4149000n.tif</SourceFilename> <SourceBand>1</SourceBand> <SourceProperties RasterXSize="12040" RasterYSize="12040" DataType="Byte" BlockXSize="512" BlockYSize="512" /> <SrcRect xOff="0" yOff="0" xSize="12040" ySize="12040" /> <DstRect xOff="12000" yOff="60000" xSize="12040" ySize="12040" /> </SimpleSource> <SimpleSource> <SourceFilename relativeToVRT="1">./282000e4152000n.tif</SourceFilename> <SourceBand>1</SourceBand> <SourceProperties RasterXSize="12040" RasterYSize="12040" DataType="Byte" BlockXSize="512" BlockYSize="512" /> <SrcRect xOff="0" yOff="0" xSize="12040" ySize="12040" /> <DstRect xOff="12000" yOff="48000" xSize="12040" ySize="12040" /> </SimpleSource> <SimpleSource> <SourceFilename relativeToVRT="1">./282000e4155000n.tif</SourceFilename> <SourceBand>1</SourceBand> <SourceProperties RasterXSize="12040" RasterYSize="12040" DataType="Byte" BlockXSize="512" BlockYSize="512" /> <SrcRect xOff="0" yOff="0" xSize="12040" ySize="12040" /> <DstRect xOff="12000" yOff="36000" xSize="12040" ySize="12040" /> </SimpleSource> <SimpleSource> <SourceFilename relativeToVRT="1">./282000e4158000n.tif</SourceFilename> <SourceBand>1</SourceBand> <SourceProperties RasterXSize="12040" RasterYSize="12040" DataType="Byte" BlockXSize="512" BlockYSize="512" /> <SrcRect xOff="0" yOff="0" xSize="12040" ySize="12040" /> <DstRect xOff="12000" yOff="24000" xSize="12040" ySize="12040" /> </SimpleSource> <SimpleSource> <SourceFilename relativeToVRT="1">./282000e4161000n.tif</SourceFilename> <SourceBand>1</SourceBand> <SourceProperties RasterXSize="12040" RasterYSize="12040" DataType="Byte" BlockXSize="512" BlockYSize="512" /> <SrcRect xOff="0" yOff="0" xSize="12040" ySize="12040" /> <DstRect xOff="12000" yOff="12000" xSize="12040" ySize="12040" /> </SimpleSource> <SimpleSource> <SourceFilename relativeToVRT="1">./282000e4164000n.tif</SourceFilename> <SourceBand>1</SourceBand> <SourceProperties RasterXSize="12040" RasterYSize="12040" DataType="Byte" BlockXSize="512" BlockYSize="512" /> <SrcRect xOff="0" yOff="0" xSize="12040" ySize="12040" /> <DstRect xOff="12000" yOff="0" xSize="12040" ySize="12040" /> </SimpleSource> <SimpleSource> <SourceFilename relativeToVRT="1">./285000e4140000n.tif</SourceFilename> <SourceBand>1</SourceBand> <SourceProperties RasterXSize="12040" RasterYSize="12040" DataType="Byte" BlockXSize="512" BlockYSize="512" /> <SrcRect xOff="0" yOff="0" xSize="12040" ySize="12040" /> <DstRect xOff="24000" yOff="96000" xSize="12040" ySize="12040" /> </SimpleSource> <SimpleSource> <SourceFilename relativeToVRT="1">./285000e4143000n.tif</SourceFilename> <SourceBand>1</SourceBand> <SourceProperties RasterXSize="12040" RasterYSize="12040" DataType="Byte" BlockXSize="512" BlockYSize="512" /> <SrcRect xOff="0" yOff="0" xSize="12040" ySize="12040" /> <DstRect xOff="24000" yOff="84000" xSize="12040" ySize="12040" /> </SimpleSource> <SimpleSource> <SourceFilename relativeToVRT="1">./285000e4146000n.tif</SourceFilename> <SourceBand>1</SourceBand> <SourceProperties RasterXSize="12040" RasterYSize="12040" DataType="Byte" BlockXSize="512" BlockYSize="512" /> <SrcRect xOff="0" yOff="0" xSize="12040" ySize="12040" /> <DstRect xOff="24000" yOff="72000" xSize="12040" ySize="12040" /> </SimpleSource> <SimpleSource> <SourceFilename relativeToVRT="1">./285000e4149000n.tif</SourceFilename> <SourceBand>1</SourceBand> <SourceProperties RasterXSize="12040" RasterYSize="12040" DataType="Byte" BlockXSize="512" BlockYSize="512" /> <SrcRect xOff="0" yOff="0" xSize="12040" ySize="12040" /> <DstRect xOff="24000" yOff="60000" xSize="12040" ySize="12040" /> </SimpleSource> <SimpleSource> <SourceFilename relativeToVRT="1">./285000e4152000n.tif</SourceFilename> <SourceBand>1</SourceBand> <SourceProperties RasterXSize="12040" RasterYSize="12040" DataType="Byte" BlockXSize="512" BlockYSize="512" /> <SrcRect xOff="0" yOff="0" xSize="12040" ySize="12040" /> <DstRect xOff="24000" yOff="48000" xSize="12040" ySize="12040" /> </SimpleSource> <SimpleSource> <SourceFilename relativeToVRT="1">./285000e4155000n.tif</SourceFilename> <SourceBand>1</SourceBand> <SourceProperties RasterXSize="12040" RasterYSize="12040" DataType="Byte" BlockXSize="512" BlockYSize="512" /> <SrcRect xOff="0" yOff="0" xSize="12040" ySize="12040" /> <DstRect xOff="24000" yOff="36000" xSize="12040" ySize="12040" /> </SimpleSource> <SimpleSource> <SourceFilename relativeToVRT="1">./285000e4158000n.tif</SourceFilename> <SourceBand>1</SourceBand> <SourceProperties RasterXSize="12040" RasterYSize="12040" DataType="Byte" BlockXSize="512" BlockYSize="512" /> <SrcRect xOff="0" yOff="0" xSize="12040" ySize="12040" /> <DstRect xOff="24000" yOff="24000" xSize="12040" ySize="12040" /> </SimpleSource> <SimpleSource> <SourceFilename relativeToVRT="1">./285000e4161000n.tif</SourceFilename> <SourceBand>1</SourceBand> <SourceProperties RasterXSize="12040" RasterYSize="12040" DataType="Byte" BlockXSize="512" BlockYSize="512" /> <SrcRect xOff="0" yOff="0" xSize="12040" ySize="12040" /> <DstRect xOff="24000" yOff="12000" xSize="12040" ySize="12040" /> </SimpleSource> <SimpleSource> <SourceFilename relativeToVRT="1">./285000e4164000n.tif</SourceFilename> <SourceBand>1</SourceBand> <SourceProperties RasterXSize="12040" RasterYSize="12040" DataType="Byte" BlockXSize="512" BlockYSize="512" /> <SrcRect xOff="0" yOff="0" xSize="12040" ySize="12040" /> <DstRect xOff="24000" yOff="0" xSize="12040" ySize="12040" /> </SimpleSource> <SimpleSource> <SourceFilename relativeToVRT="1">./288000e4140000n.tif</SourceFilename> <SourceBand>1</SourceBand> <SourceProperties RasterXSize="12040" RasterYSize="12040" DataType="Byte" BlockXSize="512" BlockYSize="512" /> <SrcRect xOff="0" yOff="0" xSize="12040" ySize="12040" /> <DstRect xOff="36000" yOff="96000" xSize="12040" ySize="12040" /> </SimpleSource> <SimpleSource> <SourceFilename relativeToVRT="1">./288000e4143000n.tif</SourceFilename> <SourceBand>1</SourceBand> <SourceProperties RasterXSize="12040" RasterYSize="12040" DataType="Byte" BlockXSize="512" BlockYSize="512" /> <SrcRect xOff="0" yOff="0" xSize="12040" ySize="12040" /> <DstRect xOff="36000" yOff="84000" xSize="12040" ySize="12040" /> </SimpleSource> <SimpleSource> <SourceFilename relativeToVRT="1">./288000e4146000n.tif</SourceFilename> <SourceBand>1</SourceBand> <SourceProperties RasterXSize="12040" RasterYSize="12040" DataType="Byte" BlockXSize="512" BlockYSize="512" /> <SrcRect xOff="0" yOff="0" xSize="12040" ySize="12040" /> <DstRect xOff="36000" yOff="72000" xSize="12040" ySize="12040" /> </SimpleSource> <SimpleSource> <SourceFilename relativeToVRT="1">./288000e4149000n.tif</SourceFilename> <SourceBand>1</SourceBand> <SourceProperties RasterXSize="12040" RasterYSize="12040" DataType="Byte" BlockXSize="512" BlockYSize="512" /> <SrcRect xOff="0" yOff="0" xSize="12040" ySize="12040" /> <DstRect xOff="36000" yOff="60000" xSize="12040" ySize="12040" /> </SimpleSource> <SimpleSource> <SourceFilename relativeToVRT="1">./288000e4152000n.tif</SourceFilename> <SourceBand>1</SourceBand> <SourceProperties RasterXSize="12040" RasterYSize="12040" DataType="Byte" BlockXSize="512" BlockYSize="512" /> <SrcRect xOff="0" yOff="0" xSize="12040" ySize="12040" /> <DstRect xOff="36000" yOff="48000" xSize="12040" ySize="12040" /> </SimpleSource> <SimpleSource> <SourceFilename relativeToVRT="1">./288000e4155000n.tif</SourceFilename> <SourceBand>1</SourceBand> <SourceProperties RasterXSize="12040" RasterYSize="12040" DataType="Byte" BlockXSize="512" BlockYSize="512" /> <SrcRect xOff="0" yOff="0" xSize="12040" ySize="12040" /> <DstRect xOff="36000" yOff="36000" xSize="12040" ySize="12040" /> </SimpleSource> <SimpleSource> <SourceFilename relativeToVRT="1">./288000e4158000n.tif</SourceFilename> <SourceBand>1</SourceBand> <SourceProperties RasterXSize="12040" RasterYSize="12040" DataType="Byte" BlockXSize="512" BlockYSize="512" /> <SrcRect xOff="0" yOff="0" xSize="12040" ySize="12040" /> <DstRect xOff="36000" yOff="24000" xSize="12040" ySize="12040" /> </SimpleSource> <SimpleSource> <SourceFilename relativeToVRT="1">./291000e4131000n.tif</SourceFilename> <SourceBand>1</SourceBand> <SourceProperties RasterXSize="12040" RasterYSize="12040" DataType="Byte" BlockXSize="512" BlockYSize="512" /> <SrcRect xOff="0" yOff="0" xSize="12040" ySize="12040" /> <DstRect xOff="48000" yOff="132000" xSize="12040" ySize="12040" /> </SimpleSource> <SimpleSource> <SourceFilename relativeToVRT="1">./291000e4134000n.tif</SourceFilename> <SourceBand>1</SourceBand> <SourceProperties RasterXSize="12040" RasterYSize="12040" DataType="Byte" BlockXSize="512" BlockYSize="512" /> <SrcRect xOff="0" yOff="0" xSize="12040" ySize="12040" /> <DstRect xOff="48000" yOff="120000" xSize="12040" ySize="12040" /> </SimpleSource> <SimpleSource> <SourceFilename relativeToVRT="1">./291000e4137000n.tif</SourceFilename> <SourceBand>1</SourceBand> <SourceProperties RasterXSize="12040" RasterYSize="12040" DataType="Byte" BlockXSize="512" BlockYSize="512" /> <SrcRect xOff="0" yOff="0" xSize="12040" ySize="12040" /> <DstRect xOff="48000" yOff="108000" xSize="12040" ySize="12040" /> </SimpleSource> <SimpleSource> <SourceFilename relativeToVRT="1">./294000e4131000n.tif</SourceFilename> <SourceBand>1</SourceBand> <SourceProperties RasterXSize="12040" RasterYSize="12040" DataType="Byte" BlockXSize="512" BlockYSize="512" /> <SrcRect xOff="0" yOff="0" xSize="12040" ySize="12040" /> <DstRect xOff="60000" yOff="132000" xSize="12040" ySize="12040" /> </SimpleSource> <SimpleSource> <SourceFilename relativeToVRT="1">./294000e4134000n.tif</SourceFilename> <SourceBand>1</SourceBand> <SourceProperties RasterXSize="12040" RasterYSize="12040" DataType="Byte" BlockXSize="512" BlockYSize="512" /> <SrcRect xOff="0" yOff="0" xSize="12040" ySize="12040" /> <DstRect xOff="60000" yOff="120000" xSize="12040" ySize="12040" /> </SimpleSource> <SimpleSource> <SourceFilename relativeToVRT="1">./294000e4137000n.tif</SourceFilename> <SourceBand>1</SourceBand> <SourceProperties RasterXSize="12040" RasterYSize="12040" DataType="Byte" BlockXSize="512" BlockYSize="512" /> <SrcRect xOff="0" yOff="0" xSize="12040" ySize="12040" /> <DstRect xOff="60000" yOff="108000" xSize="12040" ySize="12040" /> </SimpleSource> <SimpleSource> <SourceFilename relativeToVRT="1">./297000e4131000n.tif</SourceFilename> <SourceBand>1</SourceBand> <SourceProperties RasterXSize="12040" RasterYSize="12040" DataType="Byte" BlockXSize="512" BlockYSize="512" /> <SrcRect xOff="0" yOff="0" xSize="12040" ySize="12040" /> <DstRect xOff="72000" yOff="132000" xSize="12040" ySize="12040" /> </SimpleSource> <SimpleSource> <SourceFilename relativeToVRT="1">./297000e4134000n.tif</SourceFilename> <SourceBand>1</SourceBand> <SourceProperties RasterXSize="12040" RasterYSize="12040" DataType="Byte" BlockXSize="512" BlockYSize="512" /> <SrcRect xOff="0" yOff="0" xSize="12040" ySize="12040" /> <DstRect xOff="72000" yOff="120000" xSize="12040" ySize="12040" /> </SimpleSource> </VRTRasterBand> <VRTRasterBand dataType="Byte" band="2"> <ColorInterp>Green</ColorInterp> <SimpleSource> <SourceFilename relativeToVRT="1">./297000e4137000n.tif</SourceFilename> <SourceBand>2</SourceBand> <SourceProperties RasterXSize="12040" RasterYSize="12040" DataType="Byte" BlockXSize="512" BlockYSize="512" /> <SrcRect xOff="0" yOff="0" xSize="12040" ySize="12040" /> <DstRect xOff="72000" yOff="108000" xSize="12040" ySize="12040" /> </SimpleSource> <SimpleSource> <SourceFilename relativeToVRT="1">./300000e4131000n.tif</SourceFilename> <SourceBand>2</SourceBand> <SourceProperties RasterXSize="12040" RasterYSize="12040" DataType="Byte" BlockXSize="512" BlockYSize="512" /> <SrcRect xOff="0" yOff="0" xSize="12040" ySize="12040" /> <DstRect xOff="84000" yOff="132000" xSize="12040" ySize="12040" /> </SimpleSource> <SimpleSource> <SourceFilename relativeToVRT="1">./300000e4134000n.tif</SourceFilename> <SourceBand>2</SourceBand> <SourceProperties RasterXSize="12040" RasterYSize="12040" DataType="Byte" BlockXSize="512" BlockYSize="512" /> <SrcRect xOff="0" yOff="0" xSize="12040" ySize="12040" /> <DstRect xOff="84000" yOff="120000" xSize="12040" ySize="12040" /> </SimpleSource> <SimpleSource> <SourceFilename relativeToVRT="1">./300000e4137000n.tif</SourceFilename> <SourceBand>2</SourceBand> <SourceProperties RasterXSize="12040" RasterYSize="12040" DataType="Byte" BlockXSize="512" BlockYSize="512" /> <SrcRect xOff="0" yOff="0" xSize="12040" ySize="12040" /> <DstRect xOff="84000" yOff="108000" xSize="12040" ySize="12040" /> </SimpleSource> <SimpleSource> <SourceFilename relativeToVRT="1">./303000e4128000n.tif</SourceFilename> <SourceBand>2</SourceBand> <SourceProperties RasterXSize="12040" RasterYSize="12040" DataType="Byte" BlockXSize="512" BlockYSize="512" /> <SrcRect xOff="0" yOff="0" xSize="12040" ySize="12040" /> <DstRect xOff="96000" yOff="144000" xSize="12040" ySize="12040" /> </SimpleSource> <SimpleSource> <SourceFilename relativeToVRT="1">./303000e4131000n.tif</SourceFilename> <SourceBand>2</SourceBand> <SourceProperties RasterXSize="12040" RasterYSize="12040" DataType="Byte" BlockXSize="512" BlockYSize="512" /> <SrcRect xOff="0" yOff="0" xSize="12040" ySize="12040" /> <DstRect xOff="96000" yOff="132000" xSize="12040" ySize="12040" /> </SimpleSource> <SimpleSource> <SourceFilename relativeToVRT="1">./303000e4134000n.tif</SourceFilename> <SourceBand>2</SourceBand> <SourceProperties RasterXSize="12040" RasterYSize="12040" DataType="Byte" BlockXSize="512" BlockYSize="512" /> <SrcRect xOff="0" yOff="0" xSize="12040" ySize="12040" /> <DstRect xOff="96000" yOff="120000" xSize="12040" ySize="12040" /> </SimpleSource> <SimpleSource> <SourceFilename relativeToVRT="1">./303000e4137000n.tif</SourceFilename> <SourceBand>2</SourceBand> <SourceProperties RasterXSize="12040" RasterYSize="12040" DataType="Byte" BlockXSize="512" BlockYSize="512" /> <SrcRect xOff="0" yOff="0" xSize="12040" ySize="12040" /> <DstRect xOff="96000" yOff="108000" xSize="12040" ySize="12040" /> </SimpleSource> <SimpleSource> <SourceFilename relativeToVRT="1">./306000e4128000n.tif</SourceFilename> <SourceBand>2</SourceBand> <SourceProperties RasterXSize="12040" RasterYSize="12040" DataType="Byte" BlockXSize="512" BlockYSize="512" /> <SrcRect xOff="0" yOff="0" xSize="12040" ySize="12040" /> <DstRect xOff="108000" yOff="144000" xSize="12040" ySize="12040" /> </SimpleSource> <SimpleSource> <SourceFilename relativeToVRT="1">./306000e4131000n.tif</SourceFilename> <SourceBand>2</SourceBand> <SourceProperties RasterXSize="12040" RasterYSize="12040" DataType="Byte" BlockXSize="512" BlockYSize="512" /> <SrcRect xOff="0" yOff="0" xSize="12040" ySize="12040" /> <DstRect xOff="108000" yOff="132000" xSize="12040" ySize="12040" /> </SimpleSource> <SimpleSource> <SourceFilename relativeToVRT="1">./306000e4134000n.tif</SourceFilename> <SourceBand>2</SourceBand> <SourceProperties RasterXSize="12040" RasterYSize="12040" DataType="Byte" BlockXSize="512" BlockYSize="512" /> <SrcRect xOff="0" yOff="0" xSize="12040" ySize="12040" /> <DstRect xOff="108000" yOff="120000" xSize="12040" ySize="12040" /> </SimpleSource> <SimpleSource> <SourceFilename relativeToVRT="1">./279000e4161000n.tif</SourceFilename> <SourceBand>2</SourceBand> <SourceProperties RasterXSize="12040" RasterYSize="12040" DataType="Byte" BlockXSize="512" BlockYSize="512" /> <SrcRect xOff="0" yOff="0" xSize="12040" ySize="12040" /> <DstRect xOff="0" yOff="12000" xSize="12040" ySize="12040" /> </SimpleSource> <SimpleSource> <SourceFilename relativeToVRT="1">./282000e4140000n.tif</SourceFilename> <SourceBand>2</SourceBand> <SourceProperties RasterXSize="12040" RasterYSize="12040" DataType="Byte" BlockXSize="512" BlockYSize="512" /> <SrcRect xOff="0" yOff="0" xSize="12040" ySize="12040" /> <DstRect xOff="12000" yOff="96000" xSize="12040" ySize="12040" /> </SimpleSource> <SimpleSource> <SourceFilename relativeToVRT="1">./282000e4143000n.tif</SourceFilename> <SourceBand>2</SourceBand> <SourceProperties RasterXSize="12040" RasterYSize="12040" DataType="Byte" BlockXSize="512" BlockYSize="512" /> <SrcRect xOff="0" yOff="0" xSize="12040" ySize="12040" /> <DstRect xOff="12000" yOff="84000" xSize="12040" ySize="12040" /> </SimpleSource> <SimpleSource> <SourceFilename relativeToVRT="1">./282000e4146000n.tif</SourceFilename> <SourceBand>2</SourceBand> <SourceProperties RasterXSize="12040" RasterYSize="12040" DataType="Byte" BlockXSize="512" BlockYSize="512" /> <SrcRect xOff="0" yOff="0" xSize="12040" ySize="12040" /> <DstRect xOff="12000" yOff="72000" xSize="12040" ySize="12040" /> </SimpleSource> <SimpleSource> <SourceFilename relativeToVRT="1">./282000e4149000n.tif</SourceFilename> <SourceBand>2</SourceBand> <SourceProperties RasterXSize="12040" RasterYSize="12040" DataType="Byte" BlockXSize="512" BlockYSize="512" /> <SrcRect xOff="0" yOff="0" xSize="12040" ySize="12040" /> <DstRect xOff="12000" yOff="60000" xSize="12040" ySize="12040" /> </SimpleSource> <SimpleSource> <SourceFilename relativeToVRT="1">./282000e4152000n.tif</SourceFilename> <SourceBand>2</SourceBand> <SourceProperties RasterXSize="12040" RasterYSize="12040" DataType="Byte" BlockXSize="512" BlockYSize="512" /> <SrcRect xOff="0" yOff="0" xSize="12040" ySize="12040" /> <DstRect xOff="12000" yOff="48000" xSize="12040" ySize="12040" /> </SimpleSource> <SimpleSource> <SourceFilename relativeToVRT="1">./282000e4155000n.tif</SourceFilename> <SourceBand>2</SourceBand> <SourceProperties RasterXSize="12040" RasterYSize="12040" DataType="Byte" BlockXSize="512" Bl