0.25
0
0
-0.25
391000.125
6073999.875
