0.25
0
0
-0.25
388000.125
6067999.875
