0.25
0
0
-0.25
385000.125
6145999.875
