0.25
0
0
-0.25
382000.125
6109999.875
