0.25
0
0
-0.25
382000.125
6100999.875
