0.25
0
0
-0.25
376000.125
6073999.875
