0.25
0
0
-0.25
373000.125
6130999.875
