0.25
0
0
-0.25
370000.125
6076999.875
