0.25
0
0
-0.25
364000.125
6091999.875
