0.25
0
0
-0.25
367000.125
6115999.875
