0.25
0
0
-0.25
358000.125
6070999.875
