0.25
0
0
-0.25
355000.125
6088999.875
