0.25
0
0
-0.25
352000.125
6067999.875
