0.25
0
0
-0.25
349000.125
6079999.875
