0.25
0
0
-0.25
346000.125
6115999.875
