0.25
0
0
-0.25
343000.125
6100999.875
