0.25
0
0
-0.25
340000.125
6097999.875
