0.25
0
0
-0.25
337000.125
6076999.875
