0.25
0
0
-0.25
331000.125
6130999.875
