0.25
0
0
-0.25
328000.125
6136999.875
