0.25
0
0
-0.25
328000.125
6121999.875
