0.25
0
0
-0.25
322000.125
6127999.875
