0.25
0
0
-0.25
319000.125
6136999.875
