0.250000
0.000000
-0.000000
-0.250000
319000.125002
6097999.875124
