0.250000
0.000000
-0.000000
-0.250000
895300.125000
2007499.875000
