0.250000
0.000000
-0.000000
-0.250000
894300.125000
2028499.875000
