0.250000
0.000000
-0.000000
-0.250000
888300.125000
2009499.875000
