0.250000
0.000000
-0.000000
-0.250000
888300.125000
2007499.875000
