0.250000
0.000000
-0.000000
-0.250000
887300.125000
2012499.875000
