0.250000
0.000000
-0.000000
-0.250000
885300.125000
2011499.875000
