0.250000
0.000000
-0.000000
-0.250000
882300.125000
2029499.875000
