0.250000
0.000000
-0.000000
-0.250000
880300.125000
2013499.875000
