0.250000
0.000000
-0.000000
-0.250000
869300.125000
2033499.875000
