0.250000
0.000000
-0.000000
-0.250000
867300.125000
2010499.875000
