0.250000
0.000000
-0.000000
-0.250000
866300.125000
2020499.875000
